BEGIN:VCALENDAR
VERSION:2.0
PRODID:-//Midnight Mystery Theater - ECPv5.2.0//NONSGML v1.0//EN
CALSCALE:GREGORIAN
METHOD:PUBLISH
X-WR-CALNAME:Midnight Mystery Theater
X-ORIGINAL-URL:https://midnightmysterytheater.com
X-WR-CALDESC:Events for Midnight Mystery Theater
BEGIN:VTIMEZONE
TZID:America/Los_Angeles
BEGIN:DAYLIGHT
TZOFFSETFROM:-0800
TZOFFSETTO:-0700
TZNAME:PDT
DTSTART:20210314T100000
END:DAYLIGHT
BEGIN:STANDARD
TZOFFSETFROM:-0700
TZOFFSETTO:-0800
TZNAME:PST
DTSTART:20211107T090000
END:STANDARD
END:VTIMEZONE
BEGIN:VEVENT
DTSTART;TZID=America/Los_Angeles:20210730T200000
DTEND;TZID=America/Los_Angeles:20210730T210000
DTSTAMP:20260425T102446
CREATED:20210728T030723Z
LAST-MODIFIED:20210728T033142Z
UID:629-1627675200-1627678800@midnightmysterytheater.com
SUMMARY:MMT FRIDAY NIGHT LIVE - The Case of the Missing Betrothed & Begone!
DESCRIPTION:Larry AlbertAlyssa Hope MaasBruce “Charlie” Johnson\n\n\n\n\n\nMaple Valley Creative Arts Council’sMMT Friday Night LivePresents \n\n\n\nTHE CASE OF THE MISSING BETROTHED AND BEGONE \n\n\n\nWritten and directed by John Ruoff Special Guest Star Larry Albert  \n\n\n\nFeaturing The Adventures of Sheerluck Holmes! \n\n\n\nLarry Albert is famous for having played Dr. Watson in The Adventures of Sherlock Holmes more than any other radio actor in history. Now\, for the first time\, Mr. Albert will be playing both Watson and Holmes. Well\, at least their less than stellar namesakes in-THE CASE OF THE MISSING BETROTHED AND BEGONE \n\n\n\nWhen a beautiful aristocrat’s fiancé flees England to avoid accusation for the murder of Lady Groovyfrogs of Montricky Castle\, she employs Sheerluck Holmes and his faithful companion Watson to track down her betrothed in the Casbah of Algiers to declare his innocence\, as the murder turned out to be suicide. Join the silly doppleganger of the famous detective who is actually better at guessing than deduction as the duo wander into the plot of Casablanca with a collection of loonies and a few murders they had not expected. Join the zany puns of fun of adventure and something that might be described as romance as MMT takes giddy pleasure in sending up the master detective.   \n\n\n\nFeatured is MMTer Alyssa Maas singing “Bella Amore” by Benet Fleck and John Ruoff\, and special effects by Bruce Johnson.  \n\n\n\nTickets are only $10 per household\, but please feel free to purchase more than one ticket as all proceeds benefit TWO great local Arts organizations. \n\n\n\n\n\n\n\n\nShare on FacebookTweetFollow us
URL:https://midnightmysterytheater.com/event/mmt-friday-night-live-the-case-of-the-missing-betrothed-begone/
CATEGORIES:Live Show
END:VEVENT
END:VCALENDAR